BEGIN:VCALENDAR
VERSION:2.0
PRODID:-//South Carolina Sports Field Managers Association - ECPv6.15.20//NONSGML v1.0//EN
CALSCALE:GREGORIAN
METHOD:PUBLISH
X-WR-CALNAME:South Carolina Sports Field Managers Association
X-ORIGINAL-URL:https://scsfma.org
X-WR-CALDESC:Events for South Carolina Sports Field Managers Association
REFRESH-INTERVAL;VALUE=DURATION:PT1H
X-Robots-Tag:noindex
X-PUBLISHED-TTL:PT1H
BEGIN:VTIMEZONE
TZID:America/New_York
BEGIN:DAYLIGHT
TZOFFSETFROM:-0500
TZOFFSETTO:-0400
TZNAME:EDT
DTSTART:20220313T070000
END:DAYLIGHT
BEGIN:STANDARD
TZOFFSETFROM:-0400
TZOFFSETTO:-0500
TZNAME:EST
DTSTART:20221106T060000
END:STANDARD
BEGIN:DAYLIGHT
TZOFFSETFROM:-0500
TZOFFSETTO:-0400
TZNAME:EDT
DTSTART:20230312T070000
END:DAYLIGHT
BEGIN:STANDARD
TZOFFSETFROM:-0400
TZOFFSETTO:-0500
TZNAME:EST
DTSTART:20231105T060000
END:STANDARD
BEGIN:DAYLIGHT
TZOFFSETFROM:-0500
TZOFFSETTO:-0400
TZNAME:EDT
DTSTART:20240310T070000
END:DAYLIGHT
BEGIN:STANDARD
TZOFFSETFROM:-0400
TZOFFSETTO:-0500
TZNAME:EST
DTSTART:20241103T060000
END:STANDARD
BEGIN:DAYLIGHT
TZOFFSETFROM:-0500
TZOFFSETTO:-0400
TZNAME:EDT
DTSTART:20250309T070000
END:DAYLIGHT
BEGIN:STANDARD
TZOFFSETFROM:-0400
TZOFFSETTO:-0500
TZNAME:EST
DTSTART:20251102T060000
END:STANDARD
BEGIN:DAYLIGHT
TZOFFSETFROM:-0500
TZOFFSETTO:-0400
TZNAME:EDT
DTSTART:20260308T070000
END:DAYLIGHT
BEGIN:STANDARD
TZOFFSETFROM:-0400
TZOFFSETTO:-0500
TZNAME:EST
DTSTART:20261101T060000
END:STANDARD
END:VTIMEZONE
BEGIN:VEVENT
DTSTART;VALUE=DATE:20251210
DTEND;VALUE=DATE:20251211
DTSTAMP:20260423T195927
CREATED:20250318T150728Z
LAST-MODIFIED:20250318T150728Z
UID:10000025-1765324800-1765411199@scsfma.org
SUMMARY:Annual Awards and Business Meeting
DESCRIPTION:
URL:https://scsfma.org/event/annual-awards-and-business-meeting/
LOCATION:Ball Park Road Sports Complex 474 Ball Park Rd Lexington\, SC\, 474 Ball Park Rd.\, Lexington\, SC\, 29072\, United States
END:VEVENT
BEGIN:VEVENT
DTSTART;VALUE=DATE:20251117
DTEND;VALUE=DATE:20251120
DTSTAMP:20260423T195927
CREATED:20250318T150531Z
LAST-MODIFIED:20250318T150531Z
UID:10000024-1763337600-1763596799@scsfma.org
SUMMARY:Southeast Sports Field Conference & Trade Show
DESCRIPTION:
URL:https://scsfma.org/event/southeast-sports-field-conference-trade-show/
LOCATION:SC
END:VEVENT
BEGIN:VEVENT
DTSTART;VALUE=DATE:20251007
DTEND;VALUE=DATE:20251008
DTSTAMP:20260423T195927
CREATED:20250318T151209Z
LAST-MODIFIED:20250909T203125Z
UID:10000026-1759795200-1759881599@scsfma.org
SUMMARY:Hub City Spartanburgers Field Day/Tailgate Event
DESCRIPTION:SCSFMA 2025 Field Day
URL:https://scsfma.org/event/hub-city-spartanburgers-field-day-tailgate-event/
LOCATION:Fifth Third Park\, 300 W. Henry St.\, Spartanburg\, 29306\, United States
END:VEVENT
BEGIN:VEVENT
DTSTART;VALUE=DATE:20250619
DTEND;VALUE=DATE:20250620
DTSTAMP:20260423T195927
CREATED:20250318T150305Z
LAST-MODIFIED:20250318T150305Z
UID:10000023-1750291200-1750377599@scsfma.org
SUMMARY:Night at the Ballpark - Greenville Drive
DESCRIPTION:
URL:https://scsfma.org/event/night-at-the-ballpark-greenville-drive/
LOCATION:Fluor Field\, 945 S. Main St.\, Greenville\, SC\, 29601\, United States
END:VEVENT
BEGIN:VEVENT
DTSTART;VALUE=DATE:20250520
DTEND;VALUE=DATE:20250521
DTSTAMP:20260423T195927
CREATED:20250318T145916Z
LAST-MODIFIED:20250318T145916Z
UID:10000022-1747699200-1747785599@scsfma.org
SUMMARY:Zoom Meeting
DESCRIPTION:
URL:https://scsfma.org/event/zoom-meeting/
LOCATION:SC
END:VEVENT
BEGIN:VEVENT
DTSTART;VALUE=DATE:20250415
DTEND;VALUE=DATE:20250416
DTSTAMP:20260423T195927
CREATED:20250318T145506Z
LAST-MODIFIED:20250318T145621Z
UID:10000021-1744675200-1744761599@scsfma.org
SUMMARY:Clemson Turfgrass Field Day
DESCRIPTION:
URL:https://scsfma.org/event/897/
LOCATION:Clemson Pee Dee  Research & Education Center\, 2200 Pocket Rd.\, Florence\, SC\, 29506\, United States
END:VEVENT
BEGIN:VEVENT
DTSTART;VALUE=DATE:20250325
DTEND;VALUE=DATE:20250326
DTSTAMP:20260423T195927
CREATED:20250226T165454Z
LAST-MODIFIED:20250226T165454Z
UID:10000020-1742860800-1742947199@scsfma.org
SUMMARY:SCSFMA Winter Meeting
DESCRIPTION:Winter Meeting 2025 \nOur 2025 SCSFMA President Mark Elingburg will host our meeting at SSC Services for Education located at 7297 Peppermill Parkway\, North Charleston\, SC. \nWe have a great lineup of education beginning with Mr. Mark Elingburg presenting\, “Contractors Perspective of Field Management”.  This will be a first segment of a member/presenter session that tells the story of one of us……Sports Field Managers. \nMr. Brad Fowler of the Clemson Extension of Horry and Georgetown counties will present\, “Reading the Label & Proper PPE for Applying Pesticides”.  (Approved 1 SC Core Credit) \nAfter lunch Brad and Mark will have a very hands-on education session for “Sprayer and Spreader Calibration”.  (Approved 1 SC Core Credit) \nCome prepared to operate a sprayer/spreader\, measure time and distance versus volume of materials.  Handouts will be provided for you take back to your facilities to calibrate your own equipment. \nPlease RSVP to Mr. Brian Dossett or Bruce Suddeth by March 21st so we can provide lunch accurately.
URL:https://scsfma.org/event/scsfma-winter-meeting/
LOCATION:SSC Services for Education\, 7297 Peppermill Parkway\, North Charleston\, 29418\, United States
END:VEVENT
BEGIN:VEVENT
DTSTART;VALUE=DATE:20241210
DTEND;VALUE=DATE:20241211
DTSTAMP:20260423T195927
CREATED:20240222T205044Z
LAST-MODIFIED:20240222T205044Z
UID:10000015-1733788800-1733875199@scsfma.org
SUMMARY:SCSFMA Annual Awards and Business Meeting
DESCRIPTION:
URL:https://scsfma.org/event/scsfma-annual-awards-and-business-meeting/
LOCATION:Ball Park Road Sports Complex\, 474 Ball Park Rd.\, Lexington\, SC\, 29072\, United States
END:VEVENT
BEGIN:VEVENT
DTSTART;VALUE=DATE:20241117
DTEND;VALUE=DATE:20241121
DTSTAMP:20260423T195927
CREATED:20240812T193346Z
LAST-MODIFIED:20240812T193346Z
UID:10000018-1731801600-1732147199@scsfma.org
SUMMARY:Southeast Sports Field Management Conference & Trade Show
DESCRIPTION:2024 SE REGIONAL SPORTS FIELD Management Conference Trade Show
URL:https://scsfma.org/event/southeast-sports-field-management-conference-trade-show/
LOCATION:DoubleTree Resort\, 3200 S Ocean Blvd\, Myrtle Beach\, SC\, 29577\, United States
END:VEVENT
BEGIN:VEVENT
DTSTART;VALUE=DATE:20241025
DTEND;VALUE=DATE:20241026
DTSTAMP:20260423T195927
CREATED:20240814T153755Z
LAST-MODIFIED:20240814T153755Z
UID:10000019-1729814400-1729900799@scsfma.org
SUMMARY:Field of the Year Applications Due
DESCRIPTION:SCSFMA Awards Program2024
URL:https://scsfma.org/event/field-of-the-year-applications-due/
LOCATION:SC
END:VEVENT
BEGIN:VEVENT
DTSTART;VALUE=DATE:20240522
DTEND;VALUE=DATE:20240523
DTSTAMP:20260423T195927
CREATED:20240506T014442Z
LAST-MODIFIED:20240506T015828Z
UID:10000017-1716336000-1716422399@scsfma.org
SUMMARY:SCSFMA Summer 2024 Meeting
DESCRIPTION:Easley Summer 2024 Meeting
URL:https://scsfma.org/event/scsfma-summer-2024-meeting/
LOCATION:JB Red Owens Complex\, 111 Walkers Way and Quinfield Ct\, Easley\, SC\, 29642
END:VEVENT
BEGIN:VEVENT
DTSTART;TZID=America/New_York:20240409T090000
DTEND;TZID=America/New_York:20240409T120000
DTSTAMP:20260423T195927
CREATED:20240224T233614Z
LAST-MODIFIED:20240224T234158Z
UID:10000016-1712653200-1712664000@scsfma.org
SUMMARY:Clemson University Spring Turfgrass Field Day
DESCRIPTION:CU 2024 Poa Field Day flyer[98]
URL:https://scsfma.org/event/clemson-university-spring-turfgrass-field-day/
LOCATION:Walker Golf Course Maintenance Shop\, 412 Cherry Rd.\, Clemson\, SC\, 29634
END:VEVENT
BEGIN:VEVENT
DTSTART;VALUE=DATE:20240312
DTEND;VALUE=DATE:20240313
DTSTAMP:20260423T195927
CREATED:20240222T203907Z
LAST-MODIFIED:20240301T161632Z
UID:10000012-1710201600-1710287999@scsfma.org
SUMMARY:March 2024 SCSFMA Meeting
DESCRIPTION:Hanahan Winter 2024
URL:https://scsfma.org/event/march-2024-scsfma-meeting/
LOCATION:City of Hanahan Hawks Nest Park\, 1177 Williams Ln.\, Hanahan\, SC\, 29410\, United States
END:VEVENT
BEGIN:VEVENT
DTSTART;TZID=America/New_York:20231212T090000
DTEND;TZID=America/New_York:20231212T140000
DTSTAMP:20260423T195927
CREATED:20231129T202700Z
LAST-MODIFIED:20231129T202700Z
UID:10000011-1702371600-1702389600@scsfma.org
SUMMARY:2023 Business and Awards Meeting
DESCRIPTION:2023 SCSFMA Business & Awards Meeting \nFeatured speakers are Dr. Bert McCarty and Ms. Leslie Godfrey \nLexington Business Meeting 2023
URL:https://scsfma.org/event/2023-business-and-awards-meeting/
LOCATION:Ball Park Road Sports Complex 474 Ball Park Rd Lexington\, SC\, 474 Ball Park Rd.\, Lexington\, SC\, 29072\, United States
END:VEVENT
BEGIN:VEVENT
DTSTART;VALUE=DATE:20231112
DTEND;VALUE=DATE:20231116
DTSTAMP:20260423T195927
CREATED:20230907T002908Z
LAST-MODIFIED:20230907T005157Z
UID:10000010-1699747200-1700092799@scsfma.org
SUMMARY:Southeast Regional Sports Field Conference & Trade Show
DESCRIPTION:CONFERENCE AGENDA
URL:https://scsfma.org/event/southeast-regional-sports-field-conference-trade-show/
LOCATION:DoubleTree Resort\, 3200 S Ocean Blvd\, Myrtle Beach\, SC\, 29577\, United States
END:VEVENT
BEGIN:VEVENT
DTSTART;VALUE=DATE:20231027
DTEND;VALUE=DATE:20231028
DTSTAMP:20260423T195927
CREATED:20230831T022511Z
LAST-MODIFIED:20230831T022511Z
UID:10000008-1698364800-1698451199@scsfma.org
SUMMARY:FOY Entries Due
DESCRIPTION:SCSFMA Awards Program2023
URL:https://scsfma.org/event/foy-entries-due/
LOCATION:SC
END:VEVENT
BEGIN:VEVENT
DTSTART;TZID=America/New_York:20230913T120000
DTEND;TZID=America/New_York:20230913T130000
DTSTAMP:20260423T195927
CREATED:20230907T001603Z
LAST-MODIFIED:20230907T001603Z
UID:10000009-1694606400-1694610000@scsfma.org
SUMMARY:September Zoom Webinar
DESCRIPTION:Cameron Smith with Envu will discuss Sports Field Overseed Strategies. RSVP to Bruce Suddeth by Tuesday\, September 12. \n 
URL:https://scsfma.org/event/september-zoom-webinar/
LOCATION:SC
END:VEVENT
BEGIN:VEVENT
DTSTART;VALUE=DATE:20230802
DTEND;VALUE=DATE:20230803
DTSTAMP:20260423T195927
CREATED:20230228T162102Z
LAST-MODIFIED:20230406T201632Z
UID:10000005-1690934400-1691020799@scsfma.org
SUMMARY:Zoom Meeting
DESCRIPTION:
URL:https://scsfma.org/event/zoom-meeting-3/
LOCATION:SC
ATTACH;FMTTYPE=image/jpeg:https://scsfma.org/wp-content/uploads/2023/04/DJI_0094-HDR-Edit-scaled.jpg
END:VEVENT
BEGIN:VEVENT
DTSTART;VALUE=DATE:20230729
DTEND;VALUE=DATE:20230806
DTSTAMP:20260423T195927
CREATED:20230619T020223Z
LAST-MODIFIED:20230619T020624Z
UID:10000007-1690588800-1691279999@scsfma.org
SUMMARY:2023 Senior League Baseball World Series
DESCRIPTION:Sign up to volunteer. Volunteer Application and Background Check Consent form can be found here. \nLLSenior BWS Volunteer Background Check Letter – updated 3.29.23 (2)
URL:https://scsfma.org/event/2023-senior-league-baseball-world-series/
LOCATION:SC
END:VEVENT
BEGIN:VEVENT
DTSTART;TZID=America/New_York:20230524T090000
DTEND;TZID=America/New_York:20230524T090000
DTSTAMP:20260423T195927
CREATED:20230406T182258Z
LAST-MODIFIED:20230508T024608Z
UID:10000006-1684918800-1684918800@scsfma.org
SUMMARY:Field Day
DESCRIPTION:SCSFMA 2023 Field Day There will be a morning education session on Equipment Maintenance presented by Mr. Burke Anders of Columbia Country Club.  After lunch Mr. Drew Jeffers of the Clemson Extension will have a hands-on Spreader/Sprayer Calibration (1 SC DPR Credit Approved) event on the County University Soccer Stadium where the Field Day Expo will be taking place. \nThe SCSFMA Field Day will be a great time to visit with suppliers to answer your questions for any needs you may have.  We have 30 Partners/Sponsors with many who have committed to exhibit. \nThere will be equipment exhibited for hands on operation along with chemicals\, fertilizers\, tools\, any and everything for athletic field management and more. \nField Day Map 2023
URL:https://scsfma.org/event/field-day-2/
LOCATION:USC Upstate University Readiness Center and Louis P. Howell Athletic Complex\, 301 North Campus Boulevard\, Spartanburg\, SC\, 29303\, United States
END:VEVENT
BEGIN:VEVENT
DTSTART;VALUE=DATE:20230324
DTEND;VALUE=DATE:20230325
DTSTAMP:20260423T195927
CREATED:20230228T160526Z
LAST-MODIFIED:20230228T160812Z
UID:10000002-1679616000-1679702399@scsfma.org
SUMMARY:Field Day
DESCRIPTION:
URL:https://scsfma.org/event/field-day/
LOCATION:SC
ATTACH;FMTTYPE=image/jpeg:https://scsfma.org/wp-content/uploads/2023/02/tomas-eidsvold-Jxr2dJZ656Q-unsplash-scaled.jpg
END:VEVENT
BEGIN:VEVENT
DTSTART;VALUE=DATE:20230314
DTEND;VALUE=DATE:20230315
DTSTAMP:20260423T195927
CREATED:20230228T145746Z
LAST-MODIFIED:20230228T161124Z
UID:10000001-1678752000-1678838399@scsfma.org
SUMMARY:2023 Winter Meeting
DESCRIPTION:Featuring Vicky Bertagnolli & Dr. Bruce Martin
URL:https://scsfma.org/event/2023-winter-meeting/
LOCATION:SC
ATTACH;FMTTYPE=image/jpeg:https://scsfma.org/wp-content/uploads/2023/02/jeffrey-f-lin-6k0VD3xNw6U-unsplash-scaled.jpg
END:VEVENT
END:VCALENDAR